BEGIN:VCALENDAR
VERSION:2.0
PRODID:-//Norwood Young America Area Chamber of Commerce - ECPv6.15.20//NONSGML v1.0//EN
CALSCALE:GREGORIAN
METHOD:PUBLISH
X-WR-CALNAME:Norwood Young America Area Chamber of Commerce
X-ORIGINAL-URL:https://www.nyachamber.org
X-WR-CALDESC:Events for Norwood Young America Area Chamber of Commerce
REFRESH-INTERVAL;VALUE=DURATION:PT1H
X-Robots-Tag:noindex
X-PUBLISHED-TTL:PT1H
BEGIN:VTIMEZONE
TZID:UTC
BEGIN:STANDARD
TZOFFSETFROM:+0000
TZOFFSETTO:+0000
TZNAME:UTC
DTSTART:20130101T000000
END:STANDARD
END:VTIMEZONE
BEGIN:VTIMEZONE
TZID:America/Chicago
BEGIN:DAYLIGHT
TZOFFSETFROM:-0600
TZOFFSETTO:-0500
TZNAME:CDT
DTSTART:20110313T080000
END:DAYLIGHT
BEGIN:STANDARD
TZOFFSETFROM:-0500
TZOFFSETTO:-0600
TZNAME:CST
DTSTART:20111106T070000
END:STANDARD
BEGIN:DAYLIGHT
TZOFFSETFROM:-0600
TZOFFSETTO:-0500
TZNAME:CDT
DTSTART:20120311T080000
END:DAYLIGHT
BEGIN:STANDARD
TZOFFSETFROM:-0500
TZOFFSETTO:-0600
TZNAME:CST
DTSTART:20121104T070000
END:STANDARD
BEGIN:DAYLIGHT
TZOFFSETFROM:-0600
TZOFFSETTO:-0500
TZNAME:CDT
DTSTART:20130310T080000
END:DAYLIGHT
BEGIN:STANDARD
TZOFFSETFROM:-0500
TZOFFSETTO:-0600
TZNAME:CST
DTSTART:20131103T070000
END:STANDARD
BEGIN:DAYLIGHT
TZOFFSETFROM:-0600
TZOFFSETTO:-0500
TZNAME:CDT
DTSTART:20140309T080000
END:DAYLIGHT
BEGIN:STANDARD
TZOFFSETFROM:-0500
TZOFFSETTO:-0600
TZNAME:CST
DTSTART:20141102T070000
END:STANDARD
BEGIN:DAYLIGHT
TZOFFSETFROM:-0600
TZOFFSETTO:-0500
TZNAME:CDT
DTSTART:20150308T080000
END:DAYLIGHT
BEGIN:STANDARD
TZOFFSETFROM:-0500
TZOFFSETTO:-0600
TZNAME:CST
DTSTART:20151101T070000
END:STANDARD
BEGIN:DAYLIGHT
TZOFFSETFROM:-0600
TZOFFSETTO:-0500
TZNAME:CDT
DTSTART:20160313T080000
END:DAYLIGHT
BEGIN:STANDARD
TZOFFSETFROM:-0500
TZOFFSETTO:-0600
TZNAME:CST
DTSTART:20161106T070000
END:STANDARD
END:VTIMEZONE
BEGIN:VEVENT
DTSTART;TZID=UTC:20161126T160000
DTEND;TZID=UTC:20161126T180000
DTSTAMP:20260421T100827
CREATED:20151118T075431Z
LAST-MODIFIED:20161116T142439Z
UID:706-1480176000-1480183200@www.nyachamber.org
SUMMARY:Holiday Extravaganza
DESCRIPTION:Please join us for our upcoming Holiday Extravaganza event on Saturday\, November 26th from 4 to 6 p.m. it is sure to be a fun filled evening with activities for all ages. We will again be doing our Raffle Drawing\, Ugly Sweater Contest and new this year vote for your favorite businesses window decorations. \nComplimentary Treats \nActivities for all \nVisit with Mr. & Mrs. Clause \nRemember to wear your Ugly Sweater!! \n  \nStop by and visit the following businesses to check out their winter wonderland window decorations and vote at the Holiday Extravaganza for your favorite! \n\nQuilting Grounds – 224 West Elm Street\n\nChameleon Salon – 220 Elm St W\n\nSchmidt Chiropractic – 320 Hill St W\n\nLazy Loon Lanes & Brewery – 305 E Wilson St (Lobby Area open Monday – Saturday 1 to 9 p.m.)\n\nUnhinged Pizza – 425 Merger St\n\nSW Eye Care – 304 Us-212\,\n\nKleinBank – 800 Faxon Road\n\nTangelz Salon – 110 Main Street E
URL:https://www.nyachamber.org/event/holiday-extravaganza/
LOCATION:5-Way Stop\, NYA
CATEGORIES:NYA Area Events
ATTACH;FMTTYPE=image/jpeg:https://www.nyachamber.org/wp-content/uploads/2015/11/Holiday-Comm-Invite-16.jpg
END:VEVENT
BEGIN:VEVENT
DTSTART;VALUE=DATE:20161116
DTEND;VALUE=DATE:20161211
DTSTAMP:20260421T100827
CREATED:20161116T141643Z
LAST-MODIFIED:20260221T044325Z
UID:774-1479254400-1481414399@www.nyachamber.org
SUMMARY:Shop Local!
DESCRIPTION:The holidays are fast approaching and its time to starting making your shopping lists. This year\, take a moment to think outside the box. Who says a great gift needs to come from a big box store\, a fancy specialty shop in the mall or via the internet? Norwood Young America is not your average community\, and along with many local options\, a welcoming ring store can be a perfect place to find a meaningful\, locally sourced gift. There are several wonderful and useful gifts that can be purchased right here. No travel necessary!! \nWho couldn’t use a tank of gas or a car wash or even an oil change? What about an oil change for their car\, truck or motorcycle? Or better yet\, who wouldn’t love to have their vehicle detailed.   We have several locally owned and operated shops right here in town with gift certificates available! \nWhy wait in line for hours in the cold when you can get that special guy a new flat screen T.V. right here in town? Looking for a heartfelt gift for that specially lady in your life? Give the gift of relaxation and pampering several businesses offer services such as massage\, hair and nail services. \nWith all the crazy holiday hussle and bussle who wouldn’t LOVE to relax and enjoy some free time while someone else plows the driveway or cleans the house. There are local professionals waiting for your call. And for those who enjoy adding a little extra excitement to their downtime\, Topkasinot.fi is a great place to explore trusted online gaming options and seasonal promotions. \nWhat about after the holiday’s are over and spring is in the air? The gift of lawn mowing services will help free up that special someone’s busy calendar and allow them to enjoy more of their summer. And then there is always the fun home maintenance stuff that comes up\, getting their driveway sealed\, or garden planted might be the best gift your loved one has ever received. \nWhat about a gift certificate to one of the local restaurants where you could share a meal and some good conversation. Or how about taking Grandma to the grocery store for a cart full of groceries? If you want to start a grocery business\, it is best to visit the website of Save A Lot and invest in grocery store business. \nThese are just a few of the many opportunities you have to Shop Local this holiday season; you just need to use your imagination. The holidays are about caring and by shopping locally and showing your community support you are also encouraging local small businesses to keep plugging away to follow their dreams. Saturday\, November 26th is Small Business Saturday.  In addition to shopping small\, let’s all Shop Local. \nThe Norwood Chamber of Commerce has also started their annual Holiday Promotion. \nWhen you make a purchase at a local business that is a chamber member have your flyer signed. Once you have the required number of signatures/stamps leave your completed flyer with your name\, address\, and phone number at that business and you will be entered to win one of many fabulous gifts. Now\, what’s better then the chance to show your support to your local community while getting all your holiday shopping done AND have the chance to win something great for yourself!!
URL:https://www.nyachamber.org/event/shop-local/
LOCATION:MN
ATTACH;FMTTYPE=image/png:https://www.nyachamber.org/wp-content/uploads/2016/11/Holiday-Promo-16.png
END:VEVENT
BEGIN:VEVENT
DTSTART;VALUE=DATE:20160810
DTEND;VALUE=DATE:20160815
DTSTAMP:20260421T100827
CREATED:20120626T005119Z
LAST-MODIFIED:20160629T235928Z
UID:336-1470787200-1471219199@www.nyachamber.org
SUMMARY:Carver County Fair
DESCRIPTION:General Information\n\n\n\n\n\nGate Admission Hours\n\nChildren Age 6 and Under – Free\nAfter 6 p.m. on Sunday\, all ages – Free\n\n\n\nAges 7 – Adult\n\n\n\nWednesday\n8 a.m. – 10:00 p.m.\n$8.00\n\n\n\nThursday\n8 a.m. – 10:00 p.m. *\n$8.00\n*\n\n\nFriday\n8 a.m. – 10:00 p.m. *\n$8.00\n*\n\n\nSaturday\n8 a.m. – 10:00 p.m.\n$8.00\n\n\n\nSunday\n8 a.m. – 6:00 p.m. *\n$8.00\n\n\n\n*See SPECIAL DAYS for Military\, Senior Citizens\, and Sunday specials.\n\n\n\n\n\n\nSpecial Days\n\n\n\n\nThursday\nSenior Citizen Day\nSeniors 60 & over\, 1/2 price from 8 a.m.—6 p.m.\n\n\nFriday\nVeteran & Military Appreciation Day\nFree admission to veterans and current military personnel.\n\n\nSunday\nThe gates will be FREE to the public beginning at 6 p.m. on Sunday evening. Come on up for Sunday dinner at the fair and pay no admission.\n\n\n\n\n\n\nBuilding Hours\n\nExhibit Buildings and Barns\n\n\n\nEach day\n8 a.m. – 10 p.m.\n\n\n\nCommercial Buildings\n\n\n\nWednesday\n12 p.m. – 10 p.m.\n\n\nThurs. – Sat.\n10 a.m. – 10 p.m.\n\n\nSunday\n10 a.m. – 8 p.m.
URL:https://www.nyachamber.org/event/carver-county-fair/
LOCATION:Carver County Fairgrounds\, Waconia\, MN\, United States
CATEGORIES:Area Events
END:VEVENT
BEGIN:VEVENT
DTSTART;TZID=UTC:20160804T190000
DTEND;TZID=UTC:20160806T210000
DTSTAMP:20260421T100827
CREATED:20140707T010453Z
LAST-MODIFIED:20160629T225948Z
UID:559-1470337200-1470517200@www.nyachamber.org
SUMMARY:Centre Stage Theatre Present "Plaza Suite"
DESCRIPTION:
URL:https://www.nyachamber.org/event/centre-stage-theatre-present-oliver/
LOCATION:Central High School\, NYA\, United States
CATEGORIES:NYA Area Events
END:VEVENT
BEGIN:VEVENT
DTSTART;TZID=UTC:20160728T183000
DTEND;TZID=UTC:20160728T193000
DTSTAMP:20260421T100827
CREATED:20120626T011946Z
LAST-MODIFIED:20160629T224406Z
UID:372-1469730600-1469734200@www.nyachamber.org
SUMMARY:Music in the Park
DESCRIPTION:Marv Neissel \nCo-Sponsored by The Harbor and NYA Senior Advisory Board
URL:https://www.nyachamber.org/event/music-in-the-park-8/
LOCATION:NYA Legion Mem. Park (Pool Park)\, NYA\, United States
CATEGORIES:NYA Area Events
END:VEVENT
BEGIN:VEVENT
DTSTART;VALUE=DATE:20160728
DTEND;VALUE=DATE:20160731
DTSTAMP:20260421T100827
CREATED:20120626T004609Z
LAST-MODIFIED:20160629T230847Z
UID:330-1469664000-1469923199@www.nyachamber.org
SUMMARY:Glad Days
DESCRIPTION:Cologne Glad Days is a unique festival celebrating our great community and the history of Cologne. The name “Glad Days” refers to a flower\, the Gladiolus\, which Cologne is famous for. \nEach year\, the festival hosts a variety of events\, including a 5K run/walk\, city-wide garage sales\, a garden party\, kids festival\, softball tournament\, sheephead tournament\, petting zoo\, live entertainment\, food\, refreshments and much more! \nPrizes are also awarded each year during the “Glad You Are My Neighbor” contest\, which awards residents in a variety of categories\, including “Best Gladiolus”. \nGlad Days will take place July 28th – July 30th\, 2016. \nFor more information about Glad Days\, visit them online by Clicking Here or visiting them on Facebook.
URL:https://www.nyachamber.org/event/11th-annual-glad-days/
LOCATION:Cologne\, MN\, 55322\, United States
CATEGORIES:Area Events
ATTACH;FMTTYPE=image/png:https://www.nyachamber.org/wp-content/uploads/2012/06/glad_days.png
END:VEVENT
BEGIN:VEVENT
DTSTART;TZID=UTC:20160721T183000
DTEND;TZID=UTC:20160721T193000
DTSTAMP:20260421T100827
CREATED:20120626T011902Z
LAST-MODIFIED:20160629T224437Z
UID:370-1469125800-1469129400@www.nyachamber.org
SUMMARY:Music in the Park
DESCRIPTION:Jolly Ramblers\nCo-sponsored by NYA Lions
URL:https://www.nyachamber.org/event/music-in-the-park-7/
LOCATION:NYA Legion Mem. Park (Pool Park)\, United States
CATEGORIES:NYA Area Events
END:VEVENT
BEGIN:VEVENT
DTSTART;TZID=UTC:20160714T183000
DTEND;TZID=UTC:20160714T193000
DTSTAMP:20260421T100827
CREATED:20120627T011824Z
LAST-MODIFIED:20160629T225027Z
UID:368-1468521000-1468524600@www.nyachamber.org
SUMMARY:Music in the Park
DESCRIPTION:B-4 Warned\nCo-Sponsored by Schmidt Chiropractic
URL:https://www.nyachamber.org/event/music-in-the-park-6/
LOCATION:NYA Legion Mem. Park (Pool Park)\, NYA\, MN\, United States
CATEGORIES:NYA Area Events
END:VEVENT
BEGIN:VEVENT
DTSTART;TZID=UTC:20160704T210000
DTEND;TZID=UTC:20160704T230000
DTSTAMP:20260421T100827
CREATED:20120626T003846Z
LAST-MODIFIED:20160629T230022Z
UID:324-1467666000-1467673200@www.nyachamber.org
SUMMARY:Annual 4th of July Fireworks
DESCRIPTION:Spectacular Fireworks Show over Lake Waconia! Begins at dusk on Monday\, July 4th. Best Viewing from a boat on Lake Waconia\, Lola’s Lakehouse\, Lake Waconia Regional Park\, Cedar Point Park\, in Town Marina. Rain Date is July 5th.
URL:https://www.nyachamber.org/event/annual-4th-of-july-fireworks/
LOCATION:Lake Waconia\, Waconia\, MN\, 55368\, United States
CATEGORIES:NYA Area Events
END:VEVENT
BEGIN:VEVENT
DTSTART;TZID=UTC:20160630T183000
DTEND;TZID=UTC:20160630T200000
DTSTAMP:20260421T100827
CREATED:20120626T011710Z
LAST-MODIFIED:20160629T225802Z
UID:364-1467311400-1467316800@www.nyachamber.org
SUMMARY:Music in the Park
DESCRIPTION:Phyllis Hummel \nCo-Sponsored by Church of Peace
URL:https://www.nyachamber.org/event/music-in-the-park-4/
LOCATION:NYA Legion Mem. Park (Pool Park)\, United States
CATEGORIES:NYA Area Events
END:VEVENT
BEGIN:VEVENT
DTSTART;TZID=UTC:20160514T173000
DTEND;TZID=UTC:20160514T220000
DTSTAMP:20260421T100827
CREATED:20160510T200427Z
LAST-MODIFIED:20160510T200427Z
UID:729-1463247000-1463263200@www.nyachamber.org
SUMMARY:Yellow Ribbon Honor Banquet
DESCRIPTION:The NYA – Beyond the Yellow Ribbon Campaign  \ninvites everyone to its 7th annual  \nSaturday\, May 14\, 2016\, \nat the Willkommen Memorial Park Pavilion \n21 Main Street East\, \nNorwood Young America \nDoors open at 5:30 p.m. \nProgram and Dinner start at 6:00 p.m. \nProgram Speaker is Representative Jim Nash \nTickets – $13.00 \nTickets are on sale at Citizens State Bank and KleinBank in Norwood Young America \nfrom April 15th until May 10th (or until sold out).  \nThis year’s banquet will be held to honor all local service members and veterans\, and is again open to the entire community. \nIn support of this event The Willkommen Heritage & Preservation Society of NYA will be open from 4:00 p.m. to 6:00 p.m. for everyone to view its exhibits\, including a display featuring military memorabilia \n 
URL:https://www.nyachamber.org/event/yellow-ribbon-honor-banquet/
LOCATION:Willkommen Memorial Park Pavilion\, 21 Main Street East\, NYA\, MN\, 55368\, United States
CATEGORIES:NYA Area Events
END:VEVENT
BEGIN:VEVENT
DTSTART;TZID=UTC:20160510T100000
DTEND;TZID=UTC:20160510T120000
DTSTAMP:20260421T100827
CREATED:20160510T200644Z
LAST-MODIFIED:20160510T212523Z
UID:734-1462874400-1462881600@www.nyachamber.org
SUMMARY:Bike Rodeo
DESCRIPTION:BIKE RODEO \nKids Ages 8-10 years \nSat. May 14th \n10:00AM-12:00PM \nChurch of Peace \n424 Franklin St.N \nSOUTH SIDE OF HWY212 \nLearn Bike Safety \nComplete the Obstacle Course \nBe one of the 1st 50 children and get a FREE BIKE HELMET  \nDrawing for Girls and Boys 20 inch Bike \nMust be present to win  \nHeld Rain or Shine Refreshments Served \n 
URL:https://www.nyachamber.org/event/bike-rodeo/
LOCATION:Church of Peace\, 424 Franklin St N\, NYA\, MN\, United States
CATEGORIES:NYA Area Events
END:VEVENT
BEGIN:VEVENT
DTSTART;TZID=America/Chicago:20151003T120000
DTEND;TZID=America/Chicago:20151003T210000
DTSTAMP:20260421T100827
CREATED:20120626T004008Z
LAST-MODIFIED:20150721T065928Z
UID:326-1443873600-1443906000@www.nyachamber.org
SUMMARY:NYA Relay for Life
DESCRIPTION:
URL:https://www.nyachamber.org/event/nya-relay-for-life/
LOCATION:Central High School Track\, NYA\, MN\, United States
CATEGORIES:NYA Area Events
END:VEVENT
BEGIN:VEVENT
DTSTART;TZID=America/Chicago:20150721T170000
DTEND;TZID=America/Chicago:20151128T170000
DTSTAMP:20260421T100827
CREATED:20140924T071656Z
LAST-MODIFIED:20150721T065602Z
UID:672-1437498000-1448730000@www.nyachamber.org
SUMMARY:Fall Raffle
DESCRIPTION:The Chamber will once again be hosting a raffle to help support our Scholarship Programs.  Tickets are on sale now!! \n  \nTickets are $5 a piece with only 1000 tickets being sold.    Prizes are as follows:  $600\, $400\, $300\, $250 (2) $100 (5)\, $50 in Chamber Bucks (2). \n  \nThe drawing will take place as part of the Holiday Extravaganza Saturday\, November 28th at 6:30 p.m. at Central High School. \n  \nTickets can currently be purchased at Kleinbank in NYA or by contacting a board member (list below).   \n  \nChris Lund (Edward Jones) \nBrad Droege (Wm Mueller & Sons) \nRich Hantge (McBride Funeral Home) \nKaarin Foede (Melchert Hubert Sjodin) \nJulie Schmidt (Schmidt Chiropractic) \nKaren Hallquist (The Flower Mill) \nDonna Stacken (Ameriprize Financial \nJen Storms (Chamber Exe. Director) \n  \nPlease help spread the word!
URL:https://www.nyachamber.org/event/fall-raffle/
LOCATION:MN
CATEGORIES:Area Events
END:VEVENT
BEGIN:VEVENT
DTSTART;VALUE=DATE:20150619
DTEND;VALUE=DATE:20150621
DTSTAMP:20260421T100827
CREATED:20120626T011229Z
LAST-MODIFIED:20140707T005943Z
UID:356-1434672000-1434844799@www.nyachamber.org
SUMMARY:Zummerfest Celebration
DESCRIPTION:
URL:https://www.nyachamber.org/event/zummerfest-celebration/
LOCATION:Hamburg Bi-Centennial Park\, Hamburg\, MN\, United States
END:VEVENT
BEGIN:VEVENT
DTSTART;VALUE=DATE:20140816
DTEND;VALUE=DATE:20140817
DTSTAMP:20260421T100827
CREATED:20120626T005627Z
LAST-MODIFIED:20140707T004808Z
UID:341-1408147200-1408233599@www.nyachamber.org
SUMMARY:Emanuel Lutheran Ribfest
DESCRIPTION:
URL:https://www.nyachamber.org/event/emanuel-lutheran-ribfest/
LOCATION:Hamburg Bi-Centennial Park\, Hamburg\, MN\, United States
CATEGORIES:Area Events
END:VEVENT
BEGIN:VEVENT
DTSTART;VALUE=DATE:20140815
DTEND;VALUE=DATE:20140817
DTSTAMP:20260421T100827
CREATED:20120626T005351Z
LAST-MODIFIED:20160629T235040Z
UID:338-1408060800-1408233599@www.nyachamber.org
SUMMARY:The Firehouse Drive In
DESCRIPTION:The 8th Annual Firehouse Drive-In will be here soon!\n2016 Dates: August 19th & 20th – Cologne\, MN \nWe continue to raise funds to restore of our 1924 Brockton-LaFrance firetruck. This year’s event will include a double movie feature on Friday and Saturday\, shown on a massive 30′ high x 50′ wide outdoor screen. \nSound is via FM broadcast that you can tune in through your car . . . or via a portable radio. Lawn chairs and blankets are also recommended for viewing the movie outside of your vehicle. Kid’s activities this year include a bounce house\, smoke house\, fire truck rides\, pony rides\, playground and more. So come early for all the activities\, and stay for the shows! \nConcessions are also available\, so bring your appetite and enjoy hamburgers\, pork burgers\, hotdogs\, popcorn\, candy\, soda\, malts\, cotton candy & more! \nGates open at 6pm on Friday and Saturday.
URL:https://www.nyachamber.org/event/the-firehouse-drive-in/
LOCATION:Cologne\, MN\, United States
CATEGORIES:Area Events
END:VEVENT
BEGIN:VEVENT
DTSTART;TZID=America/Chicago:20140716T120000
DTEND;TZID=America/Chicago:20140716T130059
DTSTAMP:20260421T100827
CREATED:20140714T234519Z
LAST-MODIFIED:20140714T234705Z
UID:565-1405512000-1405515659@www.nyachamber.org
SUMMARY:All Chamber General Meeting
DESCRIPTION:Keynote Speaker will be Lee Hall\, the Director of  Business Finance for MCCD.  Lee will be giving an overview of MCCD’s and the Open to Business Program\, along with Christy Rock they will introduce the City’s new  partnership with MCCD to administer the economic development revolving loan monies.  We will also have Steve\, City Administrator for NYA and John\, City Administrator for Cologne on hand to give an update in regards to city happenings. \nWe hope your schedule will permit your attendance.  Sign up with Jen via email at info@nyachamber.org
URL:https://www.nyachamber.org/event/all-chamber-general-meeting/
LOCATION:Unhinged Pizza\, Norwood Young America\, MN\, 55397\, United States
END:VEVENT
BEGIN:VEVENT
DTSTART;TZID=America/Chicago:20140605T190000
DTEND;TZID=America/Chicago:20140605T200059
DTSTAMP:20260421T100827
CREATED:20120626T011453Z
LAST-MODIFIED:20140707T010655Z
UID:358-1401994800-1401998459@www.nyachamber.org
SUMMARY:Music in the Park
DESCRIPTION:Sherwin Linton \nCo-sponsored by Apple Agency
URL:https://www.nyachamber.org/event/music-in-the-park/
LOCATION:NYA Legion Mem. Park (Pool Park)\, NYA\, MN\, United States
CATEGORIES:NYA Area Events
END:VEVENT
BEGIN:VEVENT
DTSTART;TZID=America/Chicago:20120621T190000
DTEND;TZID=America/Chicago:20120621T200059
DTSTAMP:20260421T100827
CREATED:20120626T011634Z
LAST-MODIFIED:20120626T011634Z
UID:362-1340305200-1340308859@www.nyachamber.org
SUMMARY:Music in the Park
DESCRIPTION:
URL:https://www.nyachamber.org/event/music-in-the-park-3/
LOCATION:NYA Legion Mem. Park (Pool Park)\, United States
CATEGORIES:NYA Area Events
END:VEVENT
BEGIN:VEVENT
DTSTART;TZID=America/Chicago:20120614T080000
DTEND;TZID=America/Chicago:20120625T170059
DTSTAMP:20260421T100827
CREATED:20120626T011559Z
LAST-MODIFIED:20120626T011559Z
UID:360-1339660800-1340643659@www.nyachamber.org
SUMMARY:Music in the Park
DESCRIPTION:
URL:https://www.nyachamber.org/event/music-in-the-park-2/
LOCATION:NYA Legion Mem. Park (Pool Park)\, NYA\, United States
CATEGORIES:NYA Area Events
END:VEVENT
BEGIN:VEVENT
DTSTART;VALUE=DATE:20120517
DTEND;VALUE=DATE:20120520
DTSTAMP:20260421T100827
CREATED:20120509T013249Z
LAST-MODIFIED:20120509T013249Z
UID:292-1337212800-1337471999@www.nyachamber.org
SUMMARY:City Wide Garage Sale
DESCRIPTION:NYA Citywide  \nGarage Sale Days \nSponsored by the NYA Area Chamber of Commerce \nMay 17\, 18 & 19 \n  \nThe City of Norwood Young America is gearing up for their annual city wide garage sale days.  To have your sale listed on our map of sales please send your name and address to Jen at info@nyachamber.org or 952-467-4003.  \n**Deadline to be included in the map will be Friday May 4th\, 2012
URL:https://www.nyachamber.org/event/city-wide-garage-sale/
LOCATION:MN
CATEGORIES:NYA Area Events
END:VEVENT
BEGIN:VEVENT
DTSTART;TZID=America/Chicago:20120324T090000
DTEND;TZID=America/Chicago:20120324T150000
DTSTAMP:20260421T100827
CREATED:20120229T022412Z
LAST-MODIFIED:20220822T090437Z
UID:235-1332579600-1332601200@www.nyachamber.org
SUMMARY:Business Bonanza
DESCRIPTION:Join Us for the Business Bonanza\nThe Norwood Young America Chamber of Commerce is excited to host the 2012 Business Bonanza and Spring Craft Fair on Saturday\, March 24th! The event will be held at Central High School and will run from 9am to 3pm. \nSpots remain for BOTH the Business Bonanza and the Post Prom Spring Craft Fair! \nExhibitor Info\nOn behalf of the Norwood Young America Chamber of Commerce\, thank you for exhibiting at our Business Bonanza.   The NYA Chamber of Commerce is excited to host the 2012 Business Bonanza! The date for the showcase is Saturday March 24. The show hours are from 9:00am – 3:00pm. \nRegistration:  CLICK HERE TO DOWNLOAD REGISTRATION FORM. Registrations will be taken until February 24\, 2012. Any registrations recieved before February 10th will by entered into a drawing for a door prize. Cost for 2012 is $110 for Chamber Members and $150 for Non Chamber Members. \nBooths: The exhibit booths are 8 x 10 and curtained on three sides. (Back curtains will be blue and silver with the side curtains being white). A Blue tarp will be place on the floor.  The backdrop is 8′ high with 3′ high side dividers. You are allowed to pin or tape lightweight items onto the curtains. Tables and chairs are not provided. You need to bring these along. When you arrive for set up please look at the map for your booth location\, there may have been a change made at the last minute. \nElectricity: Each booth will have access to electricity. If you plan to use electricity you need to bring along an extension cord or you can also seek the help of experts from electrical company conway sc to get extension cord done. \nSet-up: Set-up is from 4:30-6:30pm on Friday March 23.  When setting up you may pull your vehicle either to the backdoors of the West Gym or at the west loading dock to unload\, but after you need to move your vehicle so that others can unload. The doors will be open one hour before show time on Saturday. You must be ready by 9:00am. Booths must be taken down Saturday after the show hours (3:00pm). No one is to take down until after 3:00pm. \nParking:  Please unload your exhibit and then park your car in the front of the school (Morse Street). \nPromotional Items: If any business intends to use a mascot outside your booth\, the NYA Chamber must approve prior to the show. A mascot can roam the area\, but is not able to pass out any business flyers/promotions outside of your booth. \nDrawings: The NYA Chamber will be having various NYA Chamber Buck drawings throughout the day. You may have your own business drawing at your booth. If you sponsor a drawing at your booth\, please indicate the name of the winner(s) on your Evaluation form\, which will be provided by the Chamber. We ask that you return this form to the Chamber of Commerce booth by 3:00 pm on Saturday. We will then have your drawing results published in the NYA Times at no extra charge \nDemonstrations: Please let the Chamber know if you are planning on doing demonstrations at your booth. \nOther: Central High School is a smoke and chemical-free building. Also no gasoline can be brought in or stored in the school building. Do not spray tires with silicone cleaner and no propane in the building. This year there will be food served in the commons area. \nIf you have any other questions or concerns\, Please call Jennifer Storms; Executive Director of the NYA Chamber of Commerce at 952-467-4003 or email at info@nyachamber.org
URL:https://www.nyachamber.org/event/business-bonanza/
LOCATION:Central High School\, 531 Morse St\, Norwood\, MN\, 55368\, United States
CATEGORIES:NYA Area Events
END:VEVENT
END:VCALENDAR